BEGIN:VCALENDAR
VERSION:2.0
PRODID:-//ChamberMaster//Event Calendar 2.0//EN
METHOD:PUBLISH
X-PUBLISHED-TTL:P3D
REFRESH-INTERVAL:P3D
CALSCALE:GREGORIAN
BEGIN:VEVENT
DTSTART:20181201T180000Z
DTEND:20181209T013000Z
X-MICROSOFT-CDO-ALLDAYEVENT:FALSE
SUMMARY:Winter Warmth Event
DESCRIPTION:We want to make sure you're warm and cozy as the winter winds blow in. That's why our reversible jackets and vests will be 25% off. They're like having two completely different jackets in one! Our jersey knit kimono sets (kimono + matching pajama pant) will also be 25% off. These sets are perfect for sitting in front of the fire with a good book!
X-ALT-DESC;FMTTYPE=text/html:We want to make sure you&#39\;re warm and cozy as the winter winds blow in. That&#39\;s why our reversible jackets and vests will be 25% off. They&#39\;re like having two completely different jackets in one! Our jersey knit kimono sets (kimono + matching pajama pant) will also be 25% off. These sets are perfect for sitting in front of the fire with a good book!
LOCATION:119 East Washington Street\, Sequim\, WA 98382
UID:e.2672.12899
SEQUENCE:3
DTSTAMP:20260425T154910Z
URL:http://sequimchamberwa.chambermaster.com/events/details/winter-warmth-event-12899
END:VEVENT

END:VCALENDAR
