BEGIN:VCALENDAR
VERSION:2.0
PRODID:-//ChamberMaster//Event Calendar 2.0//EN
METHOD:PUBLISH
X-PUBLISHED-TTL:P3D
REFRESH-INTERVAL:P3D
CALSCALE:GREGORIAN
BEGIN:VEVENT
DTSTART:20190215T000000Z
DTEND:20190215T020000Z
X-MICROSOFT-CDO-ALLDAYEVENT:FALSE
SUMMARY:Wine & Chocolate Pairing
DESCRIPTION:An evening of discovery as you pair Harbinger wines and handcrafted chocolates.A wonderful way to start that special evening or a relaxing environment to network with others passionate about seniors.Win Fabulous wine and chocolate prizes!
X-ALT-DESC;FMTTYPE=text/html:An evening of discovery as you pair Harbinger wines and handcrafted chocolates.A wonderful way to start that special evening or a relaxing environment to network with others passionate about seniors.Win Fabulous wine and chocolate prizes!
LOCATION:Sinclair Place 680 W. Prairie Street Sequim
UID:e.2672.12976
SEQUENCE:3
DTSTAMP:20260422T141800Z
URL:http://sequimchamberwa.chambermaster.com/events/details/wine-chocolate-pairing-12976
END:VEVENT

END:VCALENDAR
