BEGIN:VCALENDAR
VERSION:2.0
PRODID:-//ChamberMaster//Event Calendar 2.0//EN
METHOD:PUBLISH
X-PUBLISHED-TTL:P3D
REFRESH-INTERVAL:P3D
CALSCALE:GREGORIAN
BEGIN:VEVENT
DTSTART:20181208T023000Z
DTEND:20181208T043000Z
X-MICROSOFT-CDO-ALLDAYEVENT:FALSE
SUMMARY:The Nutcracker Cracked Up
DESCRIPTION:A quirky take on the classic Nutcracker tale\, reinvented with dance\, dialogue and comedic disarray. An original adaptation by OTA.
X-ALT-DESC;FMTTYPE=text/html:A quirky take on the classic Nutcracker tale\, reinvented with dance\, dialogue and comedic disarray. An original adaptation by OTA.
LOCATION:414 N Sequim Ave Sequim\, WA
UID:e.2672.12677
SEQUENCE:3
DTSTAMP:20260423T181406Z
URL:http://sequimchamberwa.chambermaster.com/events/details/the-nutcracker-cracked-up-12677
END:VEVENT

END:VCALENDAR
