BEGIN:VCALENDAR
VERSION:2.0
PRODID:-//ChamberMaster//Event Calendar 2.0//EN
METHOD:PUBLISH
X-PUBLISHED-TTL:P3D
REFRESH-INTERVAL:P3D
CALSCALE:GREGORIAN
BEGIN:VEVENT
DTSTART:20191029T020000Z
DTEND:20191029T030000Z
X-MICROSOFT-CDO-ALLDAYEVENT:FALSE
SUMMARY:Taizé Service
DESCRIPTION:You are warmly welcomed to the Taiz  service on Monday\, October 28th at St. Luke's. The service includes song\, prayer\, and contemplation in meditative candlelight. One may sit peacefully in silence or join in the chorus while experiencing the calming effect of being in a spiritual place. Taiz  services will continue to be held the fourth Monday of the month. Again\, you are warmly welcomed.
X-ALT-DESC;FMTTYPE=text/html:You are warmly welcomed to the Taiz&eacute\; service on Monday\, October 28th at St. Luke&#39\;s. The service includes song\, prayer\, and contemplation in meditative candlelight. One may sit peacefully in silence or join in the chorus while experiencing the calming effect of being in a spiritual place. Taiz&eacute\; services will continue to be held the fourth Monday of the month. Again\, you are warmly welcomed.
LOCATION:t. Luke's Episcopal Church 525 N. 5th Avenue Sequim\, WA 98382
UID:e.2672.13596
SEQUENCE:3
DTSTAMP:20260420T010512Z
URL:http://sequimchamberwa.chambermaster.com/events/details/taiz&#233;-service-13596
END:VEVENT

END:VCALENDAR
