BEGIN:VCALENDAR
VERSION:2.0
PRODID:-//ChamberMaster//Event Calendar 2.0//EN
METHOD:PUBLISH
X-PUBLISHED-TTL:P3D
REFRESH-INTERVAL:P3D
CALSCALE:GREGORIAN
BEGIN:VEVENT
DTSTART:20181019T013000Z
DTEND:20181019T033000Z
X-MICROSOFT-CDO-ALLDAYEVENT:FALSE
SUMMARY:Sylvia
DESCRIPTION:Talk-back night: Patrons have opportunity to ask about process of creating the production. Members of cast and crew will be available for conversation over refreshments. Sylvia\, by A.R. Gurney and directed by Tia Stephens\, is a modern romantic comedy about a marriage and a dog. "Dramatic literature is stuffed with memorable love scenes\, but none is as immediately delicious and dizzy as the one that begins the redeeming affair in SYLVIA "
X-ALT-DESC;FMTTYPE=text/html:Talk-back night: Patrons have opportunity to ask about process of creating the production. Members of cast and crew will be available for conversation over refreshments. Sylvia\, by A.R. Gurney and directed by Tia Stephens\, is a modern romantic comedy about a marriage and a dog. &quot\;Dramatic literature is stuffed with memorable love scenes\, but none is as immediately delicious and dizzy as the one that begins the redeeming affair in SYLVIA&hellip\;&quot\;
LOCATION:Olympic Theatre Arts 414 N. Sequim Ave.
UID:e.2672.12556
SEQUENCE:3
DTSTAMP:20260425T164737Z
URL:http://sequimchamberwa.chambermaster.com/events/details/sylvia-12556
END:VEVENT

END:VCALENDAR
