BEGIN:VCALENDAR
VERSION:2.0
PRODID:-//ChamberMaster//Event Calendar 2.0//EN
METHOD:PUBLISH
X-PUBLISHED-TTL:P3D
REFRESH-INTERVAL:P3D
CALSCALE:GREGORIAN
BEGIN:VEVENT
DTSTART:20190216T010000Z
DTEND:20190216T030000Z
X-MICROSOFT-CDO-ALLDAYEVENT:FALSE
SUMMARY:Spaghetti dinner
DESCRIPTION:Sequim Prairie Grange Spaghetti Dinner. Spaghetti\, salad\, garlic bread\, cookies\, and ice cream. Cost: $10.00
X-ALT-DESC;FMTTYPE=text/html:Sequim Prairie Grange Spaghetti Dinner. Spaghetti\, salad\, garlic bread\, cookies\, and ice cream. Cost: $10.00
LOCATION:290 Macleay Road\, Sequim
UID:e.2672.12989
SEQUENCE:3
DTSTAMP:20260420T064124Z
URL:http://sequimchamberwa.chambermaster.com/events/details/spaghetti-dinner-12989
END:VEVENT

END:VCALENDAR
