BEGIN:VCALENDAR
VERSION:2.0
PRODID:-//ChamberMaster//Event Calendar 2.0//EN
METHOD:PUBLISH
X-PUBLISHED-TTL:P3D
REFRESH-INTERVAL:P3D
CALSCALE:GREGORIAN
BEGIN:VEVENT
DTSTART:20181129T170000Z
DTEND:20181129T183000Z
X-MICROSOFT-CDO-ALLDAYEVENT:FALSE
SUMMARY:Smartphone Essentials Class (iPhone)
DESCRIPTION:Is the smartphone age leaving you behind? Today the development of technology is increasing at a phenomenal rate. The cellphone has become a computer! In this class\, we will help you understand the essential uses of smartphones\, starting with the basics. Smartphones can be used for much more than just phone calls   you can text\, email\, take photos\, and more! Let us help you understand all the bells and whistles these technology devices have to offer.\n\n \n\nThis class is for iPhones only. If this class has a positive turnout\, we will plan an Android class for another date! Both classes will essentially cover the same content outline:\n\n\n	Buttons on smartphone\; swiping\n	Charging your phone\n	Data\, service\, and Wi-Fi\n	Apps   downloading\, using\, deleting\n	Texting and using the keyboard\n	Phone calls\, and Facetime calls\n	Using your camera\n\n\nWhether you are a local retiree looking to join the technology revolution\, or a manager looking to educate your staff\, we have a class that will work for you! Our workshops are available for the public as well as for local businesses\, and are a great way to educate yourself about new tech skills.\n\nPlease note: We offer basic to intermediate-level classes that cover a variety of topics (see our website for additional classes currently available). Our IT workshops typically last 1.5-2 hours\, depending on class size and topic. Class sizes range from small to large and can include personalized curriculum.
X-ALT-DESC;FMTTYPE=text/html:<div>Is the smartphone age leaving you behind? Today the development of technology is increasing at a phenomenal rate. The cellphone has become a computer! In this class\, we will help you understand the essential uses of smartphones\, starting with the basics. Smartphones can be used for much more than just phone calls &ndash\; you can text\, email\, take photos\, and more! Let us help you understand all the bells and whistles these technology devices have to offer.<br />\n&nbsp\;<br />\nThis class is for iPhones only. If this class has a positive turnout\, we will plan an Android class for another date! Both classes will essentially cover the same content outline:</div>\n\n<ul>\n	<li>Buttons on smartphone\; swiping</li>\n	<li>Charging your phone</li>\n	<li>Data\, service\, and Wi-Fi</li>\n	<li>Apps &ndash\; downloading\, using\, deleting</li>\n	<li>Texting and using the keyboard</li>\n	<li>Phone calls\, and Facetime calls</li>\n	<li>Using your camera</li>\n</ul>\n\n<p><strong>Whether you are a local retiree looking to join the technology revolution\, or a manager looking to educate your staff\, we have a class that will work for you!</strong>&nbsp\;Our workshops are available for the public as well as for local businesses\, and are a great way to educate yourself about new tech skills.</p>\n\n<p><u>Please note</u>:&nbsp\;We offer basic to intermediate-level classes that cover a variety of topics (see our website for additional classes currently available). Our IT workshops typically last 1.5-2 hours\, depending on class size and topic. Class sizes range from small to large and can include personalized curriculum.&nbsp\;</p>\n
LOCATION:This scheduled class will be hosted by the Shipley Center in Sequim\, located at 921 E Hammond St\, Sequim\, WA 98382. The class will be held in the Shipley Center FRONT room. This smartphone class is being offered free of charge to the Shipley Center and local community (all donations will go toward the Shipley Center). Typically\, our classes are held in our Sequim Training Center\, located in our Sequim office (136 South 2nd Avenue). For larger groups and local business trainings\, one of our techs can come to you to provide convenient\, onsite training.
UID:e.2672.12780
SEQUENCE:3
DTSTAMP:20260421T093403Z
URL:http://sequimchamberwa.chambermaster.com/events/details/smartphone-essentials-class-iphone-12780
END:VEVENT

END:VCALENDAR
