BEGIN:VCALENDAR
VERSION:2.0
PRODID:-//ChamberMaster//Event Calendar 2.0//EN
METHOD:PUBLISH
X-PUBLISHED-TTL:P3D
REFRESH-INTERVAL:P3D
CALSCALE:GREGORIAN
BEGIN:VEVENT
DTSTART:20190812T160000Z
DTEND:20190818T003000Z
X-MICROSOFT-CDO-ALLDAYEVENT:FALSE
SUMMARY:SCB Client Appreciation Week!
DESCRIPTION:Client Appreciation Week at Sound Community Bank! Join us the week of August 12th for fun\, refreshments\, giveaways and more!
X-ALT-DESC;FMTTYPE=text/html:Client Appreciation Week at Sound Community Bank! Join us the week of August 12th for fun\, refreshments\, giveaways and more!
LOCATION:Sequim Branch - 645 W. Washington St.
UID:e.2672.13432
SEQUENCE:3
DTSTAMP:20260420T171525Z
URL:http://sequimchamberwa.chambermaster.com/events/details/scb-client-appreciation-week-13432
END:VEVENT

END:VCALENDAR
