BEGIN:VCALENDAR
VERSION:2.0
PRODID:-//ChamberMaster//Event Calendar 2.0//EN
METHOD:PUBLISH
X-PUBLISHED-TTL:P3D
REFRESH-INTERVAL:P3D
CALSCALE:GREGORIAN
BEGIN:VEVENT
DTSTART:20200221T033000Z
DTEND:20200221T053000Z
X-MICROSOFT-CDO-ALLDAYEVENT:FALSE
SUMMARY:Quilters
DESCRIPTION:Be part of a test audience in our public preview\, free for OTA members and just $10 for the general public. (general seating) The musical story of a pioneer woman and her six daughters\, Quilters blends love\, warmth\, rich and lively humor and the moving spectacle of simple human dignity and steadfastness in the face of adversity. "A show pieced together with love and stitched with pride a thing of beauty\, comfort and joy." -NY Post Written by Molly Newman and Barbara Damashek\, directed by Richard Stephens
X-ALT-DESC;FMTTYPE=text/html:Be part of a test audience in our public preview\, free for OTA members and just $10 for the general public. (general seating) The musical story of a pioneer woman and her six daughters\, Quilters blends love\, warmth\, rich and lively humor and the moving spectacle of simple human dignity and steadfastness in the face of adversity. &ldquo\;A show pieced together with love and stitched with pride&hellip\;a thing of beauty\, comfort and joy.&quot\; -NY Post Written by Molly Newman and Barbara Damashek\, directed by Richard Stephens
LOCATION:414 N Sequim Ave
UID:e.2672.13931
SEQUENCE:3
DTSTAMP:20260420T082034Z
URL:http://sequimchamberwa.chambermaster.com/events/details/quilters-13931
END:VEVENT

END:VCALENDAR
