BEGIN:VCALENDAR
VERSION:2.0
PRODID:-//ChamberMaster//Event Calendar 2.0//EN
METHOD:PUBLISH
X-PUBLISHED-TTL:P3D
REFRESH-INTERVAL:P3D
CALSCALE:GREGORIAN
BEGIN:VEVENT
DTSTART:20180901T020000Z
DTEND:20180901T043000Z
X-MICROSOFT-CDO-ALLDAYEVENT:FALSE
SUMMARY:Phantom Tollbooth
DESCRIPTION:Olympic Theatre Arts' 2018/2019 season is opening with OTA's Children's Theatre Production of The Phantom Tollbooth\, by Norton Juster. The Phantom Tollbooth is a fun\, hysterical look at words\, about how our language is used and changes over time. It is based on a book by Norton Juster - "Every word counts\," says director Bonne Smith. "Time is a gift\, given to you\, given to give you the time you need\, the time you need to have the time of your life." (Norton Juster)
X-ALT-DESC;FMTTYPE=text/html:Olympic Theatre Arts&rsquo\; 2018/2019 season is opening with OTA&rsquo\;s Children&rsquo\;s Theatre Production of The Phantom Tollbooth\, by Norton Juster. The Phantom Tollbooth is a fun\, hysterical look at words\, about how our language is used and changes over time. It is based on a book by Norton Juster - &ldquo\;Every word counts\,&rdquo\; says director Bonne Smith. &ldquo\;Time is a gift\, given to you\, given to give you the time you need\, the time you need to have the time of your life.&rdquo\; (Norton Juster)
LOCATION:Olympic Theatre Arts 414 N. Sequim Ave
UID:e.2672.11391
SEQUENCE:3
DTSTAMP:20260425T114957Z
URL:http://sequimchamberwa.chambermaster.com/events/details/phantom-tollbooth-11391
END:VEVENT

END:VCALENDAR
