BEGIN:VCALENDAR
VERSION:2.0
PRODID:-//ChamberMaster//Event Calendar 2.0//EN
METHOD:PUBLISH
X-PUBLISHED-TTL:P3D
REFRESH-INTERVAL:P3D
CALSCALE:GREGORIAN
BEGIN:VEVENT
DTSTART:20180811T180000Z
DTEND:20180811T230000Z
X-MICROSOFT-CDO-ALLDAYEVENT:FALSE
SUMMARY:Pet First Aid / CPR Training Class
DESCRIPTION:Swim Doggie Swim is hosting a wonderful class that gives you the learning skills and techniques of Pet First Aid / CPR. You will gain skills in dealing with shock\, seizures\, choking\, burns\, poisoning\, broken bones\, heat stroke\, cuts and grazes\, rescuing breathing\, CPR and much more.\n\n\n\nThis Course is $95 and includes a copy of a PetSaver handbook\, ID card and an official certificate for each participant.  Class size is limited. Must RSVP to Jennifer Paul at jennifer@swimdoggieswim.com\, or call or text 360-582-9663. This class is presented by Christopher Ashton of Enlighten Dogs
X-ALT-DESC;FMTTYPE=text/html:Swim Doggie Swim is hosting a wonderful class that gives you the learning skills and techniques of <strong>Pet First Aid / CPR.</strong> You will gain skills in dealing with shock\, seizures\, choking\, burns\, poisoning\, broken bones\, heat stroke\, cuts and grazes\, rescuing breathing\, CPR and much more.<br />\n<br />\nThis Course is $95 and includes a copy of a PetSaver handbook\, ID card and an official certificate for each participant.&nbsp\; Class size is limited. Must RSVP to Jennifer Paul at jennifer@swimdoggieswim.com\, or call or text 360-582-9663. This class is presented by Christopher Ashton of Enlighten Dogs&nbsp\;
LOCATION:Swim Doggie Swim 261043 Highway 101 Sequim\, WA 98382
UID:e.2672.12514
SEQUENCE:3
DTSTAMP:20260425T131448Z
URL:http://sequimchamberwa.chambermaster.com/events/details/pet-first-aid-cpr-training-class-12514
END:VEVENT

END:VCALENDAR
