BEGIN:VCALENDAR
VERSION:2.0
PRODID:-//ChamberMaster//Event Calendar 2.0//EN
METHOD:PUBLISH
X-PUBLISHED-TTL:P3D
REFRESH-INTERVAL:P3D
CALSCALE:GREGORIAN
BEGIN:VEVENT
DTSTART:20180825T190000Z
DTEND:20180826T230000Z
X-MICROSOFT-CDO-ALLDAYEVENT:FALSE
SUMMARY:Open House
DESCRIPTION:Come view this beautiful and newly completed Anderson Homes Aurora Peak plan on Sat/Sun\, August 18-19 from Noon to 4 pm. Ready for move-in!
X-ALT-DESC;FMTTYPE=text/html:Come view this beautiful and newly completed Anderson Homes Aurora Peak plan on Sat/Sun\, August 18-19 from Noon to 4 pm. Ready for move-in!
LOCATION:410 Lofgrin Rd
UID:e.2672.12655
SEQUENCE:3
DTSTAMP:20260425T113051Z
URL:http://sequimchamberwa.chambermaster.com/events/details/open-house-12655
END:VEVENT

END:VCALENDAR
