BEGIN:VCALENDAR
VERSION:2.0
PRODID:-//ChamberMaster//Event Calendar 2.0//EN
METHOD:PUBLISH
X-PUBLISHED-TTL:P3D
REFRESH-INTERVAL:P3D
CALSCALE:GREGORIAN
BEGIN:VEVENT
DTSTART:20190210T010000Z
DTEND:20190210T050000Z
X-MICROSOFT-CDO-ALLDAYEVENT:FALSE
SUMMARY:Making Waves
DESCRIPTION:Support learning and citizen science programs at Feiro Marine Life Center. Hear from Brooke Taylor about the new Port Angeles Waterfront Center. Participate in a wine pull and live auction. Enjoy a delicious buffet dinner. Meet Ollie the Otter from First Federal Bank at the photo booth. Enjoy the soothing sounds of THAG Jazz. Applaud the 2019 Feiro Family Scholarship winner and the first Marine Discovery Center Ocean Advocate awardee. Catering by the Cedars at Dungeness A glass of wine is included with each 21+ ticket.
X-ALT-DESC;FMTTYPE=text/html:Support learning and citizen science programs at Feiro Marine Life Center. Hear from Brooke Taylor about the new Port Angeles Waterfront Center. Participate in a wine pull and live auction. Enjoy a delicious buffet dinner. Meet Ollie the Otter from First Federal Bank at the photo booth. Enjoy the soothing sounds of THAG Jazz. Applaud the 2019 Feiro Family Scholarship winner and the first Marine Discovery Center Ocean Advocate awardee. Catering by the Cedars at Dungeness A glass of wine is included with each 21+ ticket.
LOCATION:Sunland Golf & Country Club in Sequim\, WA 109 Hilltop Rd
UID:e.2672.12920
SEQUENCE:3
DTSTAMP:20260420T130207Z
URL:http://sequimchamberwa.chambermaster.com/events/details/making-waves-12920
END:VEVENT

END:VCALENDAR
