BEGIN:VCALENDAR
VERSION:2.0
PRODID:-//ChamberMaster//Event Calendar 2.0//EN
METHOD:PUBLISH
X-PUBLISHED-TTL:P3D
REFRESH-INTERVAL:P3D
CALSCALE:GREGORIAN
BEGIN:VEVENT
DTSTART:20180819T010000Z
DTEND:20180819T050000Z
X-MICROSOFT-CDO-ALLDAYEVENT:FALSE
SUMMARY:Longstride - Supporting VIMO
DESCRIPTION:Come out and enjoy a fun concert and wine while supporting Volunteers in Medicine of the Olympics.
X-ALT-DESC;FMTTYPE=text/html:Come out and enjoy a fun concert and wine while supporting Volunteers in Medicine of the Olympics.
LOCATION:Olympic Cellars Winery
UID:e.2672.12522
SEQUENCE:3
DTSTAMP:20260425T202840Z
URL:http://sequimchamberwa.chambermaster.com/events/details/longstride-supporting-vimo-12522
END:VEVENT

END:VCALENDAR
