BEGIN:VCALENDAR
VERSION:2.0
PRODID:-//ChamberMaster//Event Calendar 2.0//EN
METHOD:PUBLISH
X-PUBLISHED-TTL:P3D
REFRESH-INTERVAL:P3D
CALSCALE:GREGORIAN
BEGIN:VEVENT
DTSTART:20181108T200000Z
DTEND:20181108T220000Z
X-MICROSOFT-CDO-ALLDAYEVENT:FALSE
SUMMARY:IT Essentials Class (Safeguarding Your Computer Experience)
DESCRIPTION:Almost 90% of cyber attacks are caused by human error or behavior! Many employees place their company at risk just by being uneducated on safe internet usage. This applies to the public as well - anyone who browses the web puts their personal information at risk when they click on something they shouldn't. This class will help the public and local businesses to understand the importance of internet security\, keeping your personal and business information safe\, and more:\n\n	Safe internet browsing   safe devices\, email security\, internet security\, avoiding fraudsters\n	Virus protection malware\n	Data backup\n	Maintenance   computer updates\, cleaning out hard drive\, system checks\n	Secure Passwords\n\n\nWhether you are a local retiree looking to join the technology revolution\, or a manager looking to educate your staff\, we have a class that will work for you! Our workshops are available for the public as well as for local businesses\, and are a great way to educate yourself about new tech skills.\n\nPlease note: We offer basic to intermediate-level classes that cover a variety of topics (see our website for additional classes currently available). Our IT workshops typically last 1.5-2 hours\, depending on class size and topic. Class sizes range from small to large and can include personalized curriculum. \n\n \n\n*Class subjects are not set in stone. If you would like to request a specific class\, please contact us. Depending on registration\, we may be able to alter class subjects for the date requested.
X-ALT-DESC;FMTTYPE=text/html:<span style="font-size:12px"><span style="font-family:arial\,helvetica\,sans-serif">Almost 90% of cyber attacks are caused by human error or behavior! Many employees place their company at risk just by being uneducated on safe internet usage. This applies to the public as well - anyone who browses the web puts their personal information at risk when they click on something they shouldn&#39\;t. This class will help the public and local businesses to understand the importance of internet security\, keeping your personal and business information safe\, and more:</span></span>\n<ul>\n	<li><span style="font-size:12px"><span style="font-family:arial\,helvetica\,sans-serif">Safe internet browsing &ndash\; safe devices\, email security\, internet security\, avoiding fraudsters</span></span></li>\n	<li><span style="font-size:12px"><span style="font-family:arial\,helvetica\,sans-serif">Virus protection malware</span></span></li>\n	<li><span style="font-size:12px"><span style="font-family:arial\,helvetica\,sans-serif">Data backup</span></span></li>\n	<li><span style="font-size:12px"><span style="font-family:arial\,helvetica\,sans-serif">Maintenance &ndash\; computer updates\, cleaning out hard drive\, system checks</span></span></li>\n	<li><span style="font-size:12px"><span style="font-family:arial\,helvetica\,sans-serif">Secure Passwords</span></span></li>\n</ul>\n\n<p><span style="font-size:12px"><span style="font-family:arial\,helvetica\,sans-serif"><strong>Whether you are a local retiree looking to join the technology revolution\, or a manager looking to educate your staff\, we have a class that will work for you!</strong>&nbsp\;Our workshops are available for the public as well as for local businesses\, and are a great way to educate yourself about new tech skills.</span></span></p>\n\n<p><span style="font-size:12px"><span style="font-family:arial\,helvetica\,sans-serif"><u>Please note</u>:&nbsp\;We offer basic to intermediate-level classes that cover a variety of topics (see our website for additional classes currently available). Our IT workshops typically last 1.5-2 hours\, depending on class size and topic. Class sizes range from small to large and can include personalized curriculum.&nbsp\;</span></span><br />\n&nbsp\;</p>\n\n<p><span style="font-size:12px"><span style="font-family:arial\,helvetica\,sans-serif"><em>*Class subjects are not set in stone. If you would like to request a specific class\, please contact us. Depending on registration\, we may be able to alter class subjects for the date requested.</em></span></span></p>\n
LOCATION:This scheduled class will be hosted in our Sequim Training Center\, located in our Sequim office (136 South 2nd Avenue). For larger groups and local business trainings\, one of our techs can come to you to provide convenient\, onsite training.
UID:e.2672.12777
SEQUENCE:3
DTSTAMP:20260421T041718Z
URL:http://sequimchamberwa.chambermaster.com/events/details/it-essentials-class-safeguarding-your-computer-experience-12777
END:VEVENT

END:VCALENDAR
