BEGIN:VCALENDAR
VERSION:2.0
PRODID:-//ChamberMaster//Event Calendar 2.0//EN
METHOD:PUBLISH
X-PUBLISHED-TTL:P3D
REFRESH-INTERVAL:P3D
CALSCALE:GREGORIAN
BEGIN:VEVENT
DTSTART:20181213T180000Z
DTEND:20181213T200000Z
X-MICROSOFT-CDO-ALLDAYEVENT:FALSE
SUMMARY:I.T. Workshop
DESCRIPTION:Whether you are a local retiree looking to join the technology revolution\, or a manager looking to educate your staff\, we have a class that will work for you! Our workshops are available for the public as well as for local businesses\, and are a great way to educate yourself about computer-related topics.\n\n\n\nPlease note: We offer basic to intermediate-level classes that cover a variety of topics (see below for classes currently available). Our IT workshops typically last 1.5-2 hours\, depending on class size and topic. Class sizes range from small to large and can include personalized curriculum. \n\n\n\nCurrent Classes Offered:\n\n	\n	IT Essentials (Safeguarding your Computing Experience)\n	\n	\n	Microsoft Office Basics:\n\n	\n		\n		Word Basics\n		\n		\n		Excel Basics\n		\n		\n		PowerPoint Basics\n		\n		\n		Outlook (email) Basics\n		\n	\n	\n	\n	The Ransomware Virus (How to Respond to Cyberattacks)\n	\n	\n	Photo Basics (organizing\, storing\, and more!)\n	\n	\n	Smartphone Basics (iPhone & Android classes available)\n	\n	\n	Other class topics are available upon request   we will do our best to accommodate you!\n	\n\n\n\n*Class subjects are not set in stone. If you would like to request a specific class\, please contact us. Depending on registration\, we may be able to alter class subjects for the date requested.
X-ALT-DESC;FMTTYPE=text/html:<strong>Whether you are a local retiree looking to join the technology revolution\, or a manager looking to educate your staff\, we have a class that will work for you!</strong>&nbsp\;Our workshops are available for the public as well as for local businesses\, and are a great way to educate yourself about computer-related topics.<br />\n<br />\n<u>Please note</u>:&nbsp\;We offer basic to intermediate-level classes that cover a variety of topics (see below for classes currently available). Our IT workshops typically last 1.5-2 hours\, depending on class size and topic. Class sizes range from small to large and can include personalized curriculum.&nbsp\;<br />\n<br />\n<strong>Current Classes Offered:</strong>\n<ul>\n	<li>\n	<div style="text-align:justify"><span style="background-color:transparent\; font-size:10.5pt">IT Essentials (Safeguarding your Computing Experience)</span></div>\n	</li>\n	<li>\n	<div style="text-align:justify"><span style="background-color:transparent\; font-size:10.5pt">Microsoft Office Basics:</span></div>\n\n	<ul>\n		<li>\n		<div style="text-align:justify"><span style="background-color:transparent\; font-size:10.5pt">Word Basics</span></div>\n		</li>\n		<li>\n		<div style="text-align:justify"><span style="background-color:transparent\; font-size:10.5pt">Excel Basics</span></div>\n		</li>\n		<li>\n		<div style="text-align:justify"><span style="background-color:transparent\; font-size:10.5pt">PowerPoint Basics</span></div>\n		</li>\n		<li>\n		<div style="text-align:justify"><span style="background-color:transparent\; font-size:10.5pt">Outlook (email) Basics</span></div>\n		</li>\n	</ul>\n	</li>\n	<li>\n	<div style="text-align:justify"><span style="background-color:transparent\; font-size:10.5pt">The Ransomware Virus (How to Respond to Cyberattacks)</span></div>\n	</li>\n	<li>\n	<div style="text-align:justify"><span style="background-color:transparent\; font-size:10.5pt">Photo Basics (organizing\, storing\, and more!)</span></div>\n	</li>\n	<li>\n	<div style="text-align:justify"><span style="background-color:transparent\; font-size:10.5pt">Smartphone Basics (iPhone &amp\; Android classes available)</span></div>\n	</li>\n	<li>\n	<div style="text-align:justify"><span style="background-color:transparent\; font-size:10.5pt">Other class topics are available upon request &ndash\; we will do our best to accommodate you!</span></div>\n	</li>\n</ul>\n<br />\n<em>*Class subjects are not set in stone. If you would like to request a specific class\, please contact us. Depending on registration\, we may be able to alter class subjects for the date requested.</em>
LOCATION:Each scheduled class will be hosted in our Sequim Training Center\, located in our Sequim office (136 South 2nd Avenue). For larger groups and local business trainings\, one of our techs can come to you to provide convenient\, onsite training.
UID:e.2672.12886
SEQUENCE:3
DTSTAMP:20260421T165907Z
URL:http://sequimchamberwa.chambermaster.com/events/details/i-t-workshop-12886
END:VEVENT

END:VCALENDAR
