BEGIN:VCALENDAR
VERSION:2.0
PRODID:-//ChamberMaster//Event Calendar 2.0//EN
METHOD:PUBLISH
X-PUBLISHED-TTL:P3D
REFRESH-INTERVAL:P3D
CALSCALE:GREGORIAN
BEGIN:VEVENT
DTSTART:20200118T180000Z
DTEND:20200118T190000Z
X-MICROSOFT-CDO-ALLDAYEVENT:FALSE
SUMMARY:Home Dedication
DESCRIPTION:Please join us as another Family receives the keys to their new Habitat Home-opening the door to a new life! Take part in the key presentation ceremony\, meet the Family Partner\, Habitat staff\, board members and volunteers that have worked so hard to make this dream a reality for Michael\, Lidsay and their 4 children. Stay to take a tour of their home and enjoy a reception afterward.
X-ALT-DESC;FMTTYPE=text/html:Please join us as another Family&nbsp\;receives the keys to their new&nbsp\;Habitat Home-opening the door to a new life! Take part in the key presentation ceremony\, meet the Family Partner\, Habitat staff\, board members and volunteers that have worked so hard to make this dream a reality for Michael\, Lidsay and their 4 children. Stay to&nbsp\;take a tour of their home and enjoy a reception afterward.
LOCATION:2311 W. 16th St (0ff 0f N. St.) Port Angeles\, WA
UID:e.2672.13946
SEQUENCE:3
DTSTAMP:20260420T173004Z
URL:http://sequimchamberwa.chambermaster.com/events/details/home-dedication-13946
END:VEVENT

END:VCALENDAR
