BEGIN:VCALENDAR
VERSION:2.0
PRODID:-//ChamberMaster//Event Calendar 2.0//EN
METHOD:PUBLISH
X-PUBLISHED-TTL:P3D
REFRESH-INTERVAL:P3D
CALSCALE:GREGORIAN
BEGIN:VEVENT
DTSTART:20181011T223000Z
DTEND:20181012T000000Z
X-MICROSOFT-CDO-ALLDAYEVENT:FALSE
SUMMARY:Get Your Shift Together
DESCRIPTION:Awakening Natural Awareness Presents: Get Your Shift Together.  Learn how to create meaningful change in your life.  Taught by Jackie Boyle CHt\, NLP\, and Reiki Master and Mark Lee\; this class will help you to enhance your health consciousness through a focus on current scientific findings\, proven techniques\, and discussions about healing the body and mind.  We will meet once a week for 4 weeks\, on Thursdays\, as the class is designed to help you establish new patterns of health over a 30 day period.
X-ALT-DESC;FMTTYPE=text/html:Awakening Natural Awareness Presents: Get Your Shift Together. &nbsp\;Learn how to create meaningful change in your life. &nbsp\;Taught by Jackie Boyle CHt\, NLP\, and Reiki Master and Mark Lee\; this class will help you to<span style="background-color:transparent\; color:rgb(34\, 34\, 34)\; font-family:arial\,helvetica\,sans-serif\; font-size:13.33px"> enhance your health consciousness through a focus on current scientific findings\, proven techniques\, and discussions about healing the body and mind.&nbsp\; We will meet once a week for 4 weeks\, on Thursdays\, as the class is designed to help you establish new patterns of health over a 30 day period.</span>
LOCATION:Sequim Public Library - 630 N Sequim Ave\, Sequim\, WA 98382
UID:e.2672.12743
SEQUENCE:3
DTSTAMP:20260425T115055Z
URL:http://sequimchamberwa.chambermaster.com/events/details/get-your-shift-together-12743
END:VEVENT

END:VCALENDAR
