BEGIN:VCALENDAR
VERSION:2.0
PRODID:-//ChamberMaster//Event Calendar 2.0//EN
METHOD:PUBLISH
X-PUBLISHED-TTL:P3D
REFRESH-INTERVAL:P3D
CALSCALE:GREGORIAN
BEGIN:VEVENT
DTSTART:20190206T030000Z
DTEND:20190206T050000Z
X-MICROSOFT-CDO-ALLDAYEVENT:FALSE
SUMMARY:Ensemble Electra
DESCRIPTION:Concert of music by internationally known recorder players and harpsichordist. Music from Spain\, Italy\, South American and includes music of Baroque and Modern eras.
X-ALT-DESC;FMTTYPE=text/html:Concert of music by internationally known recorder players and harpsichordist. Music from Spain\, Italy\, South American and includes music of Baroque and Modern eras.
LOCATION:Maier Concert Hall
UID:e.2672.13012
SEQUENCE:3
DTSTAMP:20260421T031222Z
URL:http://sequimchamberwa.chambermaster.com/events/details/ensemble-electra-13012
END:VEVENT

END:VCALENDAR
