BEGIN:VCALENDAR
VERSION:2.0
PRODID:-//ChamberMaster//Event Calendar 2.0//EN
METHOD:PUBLISH
X-PUBLISHED-TTL:P3D
REFRESH-INTERVAL:P3D
CALSCALE:GREGORIAN
BEGIN:VEVENT
DTSTART:20190421T160000Z
DTEND:20190421T200000Z
X-MICROSOFT-CDO-ALLDAYEVENT:FALSE
SUMMARY:Easter Brunch
DESCRIPTION:The House of Seven Brothers\n\nJoin Us For Easter Brunch\n\nApril 21\, 9am-1pm\n\nAdults $19.  Children (6-12) $12\, 5 & Under Free
X-ALT-DESC;FMTTYPE=text/html:The House of Seven Brothers<br />\nJoin Us For Easter Brunch<br />\nApril 21\, 9am-1pm<br />\nAdults $19.&nbsp\; Children (6-12) $12\, 5 &amp\; Under Free<br />\n<br />\n&nbsp\;
LOCATION:The House of Seven Brothers at 7 Cedars 270756 Highway 101 Sequim\, WA 98382
UID:e.2672.13118
SEQUENCE:3
DTSTAMP:20260422T065830Z
URL:http://sequimchamberwa.chambermaster.com/events/details/easter-brunch-13118
END:VEVENT

END:VCALENDAR
