BEGIN:VCALENDAR
VERSION:2.0
PRODID:-//ChamberMaster//Event Calendar 2.0//EN
METHOD:PUBLISH
X-PUBLISHED-TTL:P3D
REFRESH-INTERVAL:P3D
CALSCALE:GREGORIAN
BEGIN:VEVENT
DTSTART:20230828T183000Z
DTEND:20230828T203000Z
X-MICROSOFT-CDO-ALLDAYEVENT:FALSE
SUMMARY:Diversity\, Equity and Inclusion Workshop
DESCRIPTION:Join us to learn more about Diversity\, Equity and Inclusion\, and how we can implement policies that make our workplaces more inclusive for our modern workforce. Mary Beth Gregory with United Way of Clallam County will be our presenter and facilitator for the workshops.\n\nWe will hold four sessions on the 3rd Tuesday of each month\, you may choose to attend one\, some\, or all of the sessions.
X-ALT-DESC;FMTTYPE=text/html:Join us to learn more about Diversity\, Equity and Inclusion\, and how we can implement policies that make our workplaces more inclusive for our modern workforce. Mary Beth Gregory with United Way of Clallam County will be our presenter and facilitator for the workshops.<br />\nWe will hold four sessions on the 3rd Tuesday of each month\, you may choose to attend one\, some\, or all of the sessions.
LOCATION:KSQM Community Room Sequim Village Shopping Center 609 W Washington Street Sequim\, WA 98382
UID:e.2672.21029
SEQUENCE:3
DTSTAMP:20260422T045712Z
URL:http://sequimchamberwa.chambermaster.com/events/details/diversity-equity-and-inclusion-workshop-21029
END:VEVENT

END:VCALENDAR
